BEGIN:VCALENDAR
VERSION:2.0
PRODID:-//LUCKY MAYS - ECPv6.15.20//NONSGML v1.0//EN
CALSCALE:GREGORIAN
METHOD:PUBLISH
X-ORIGINAL-URL:https://luckymays.com
X-WR-CALDESC:Events for LUCKY MAYS
REFRESH-INTERVAL;VALUE=DURATION:PT1H
X-Robots-Tag:noindex
X-PUBLISHED-TTL:PT1H
BEGIN:VTIMEZONE
TZID:America/Denver
BEGIN:DAYLIGHT
TZOFFSETFROM:-0700
TZOFFSETTO:-0600
TZNAME:MDT
DTSTART:20240310T090000
END:DAYLIGHT
BEGIN:STANDARD
TZOFFSETFROM:-0600
TZOFFSETTO:-0700
TZNAME:MST
DTSTART:20241103T080000
END:STANDARD
BEGIN:DAYLIGHT
TZOFFSETFROM:-0700
TZOFFSETTO:-0600
TZNAME:MDT
DTSTART:20250309T090000
END:DAYLIGHT
BEGIN:STANDARD
TZOFFSETFROM:-0600
TZOFFSETTO:-0700
TZNAME:MST
DTSTART:20251102T080000
END:STANDARD
BEGIN:DAYLIGHT
TZOFFSETFROM:-0700
TZOFFSETTO:-0600
TZNAME:MDT
DTSTART:20260308T090000
END:DAYLIGHT
BEGIN:STANDARD
TZOFFSETFROM:-0600
TZOFFSETTO:-0700
TZNAME:MST
DTSTART:20261101T080000
END:STANDARD
END:VTIMEZONE
BEGIN:VEVENT
DTSTART;TZID=America/Denver:20250801T183000
DTEND;TZID=America/Denver:20250801T193000
DTSTAMP:20260421T012302
CREATED:20250731T175249Z
LAST-MODIFIED:20250801T162334Z
UID:15180-1754073000-1754076600@luckymays.com
SUMMARY:LUCKY MAYS (BAND) - WINROCK PARK
DESCRIPTION:*Featuring Bryan Davis on guitar\, Justin Bransford on bass\, Ken Eastman on keys and John Bartlit on Drums \n\n\n\nADDRESS: 2100 Louisiana Blvd NE #51\, Albuquerque\, NM 87110 \n\n\n\nSUPPORT ACT FOR: ARKANSAUCE
URL:https://luckymays.com/event/lucky-mays-band-winrock-park-2/
END:VEVENT
BEGIN:VEVENT
DTSTART;TZID=America/Denver:20250815T190000
DTEND;TZID=America/Denver:20250815T210000
DTSTAMP:20260421T012302
CREATED:20250731T182157Z
LAST-MODIFIED:20250801T162557Z
UID:15187-1755284400-1755291600@luckymays.com
SUMMARY:LUCKY MAYS (DUO) - RUST IS GOLD COFFEE
DESCRIPTION:*Featuring Bryan Davis on guitarOPENING ACT: ASH & KAY \n\n\n\nADDRESS: 3732 Eubank Blvd NE\, Albuquerque\, NM 87111
URL:https://luckymays.com/event/lucky-mays-duo-rust-is-gold-coffee/
END:VEVENT
BEGIN:VEVENT
DTSTART;TZID=America/Denver:20250823T193000
DTEND;TZID=America/Denver:20250823T223000
DTSTAMP:20260421T012302
CREATED:20250731T182914Z
LAST-MODIFIED:20250819T213152Z
UID:15190-1755977400-1755988200@luckymays.com
SUMMARY:Lucky Mays (BAND) - SANDIA MUSIC & SOUND
DESCRIPTION:*Featuring Bryan Davis on guitar\, Jeff Wilson on bass\, Ken Eastman on keys and Jesse Culberson on drums. \n\n\n\nOPENING ACT: Sunyote Wild\, Micah Thunder \n\n\n\nADDRESS: 5105 Homestead Cir NW\, Albuquerque\, NM 87120
URL:https://luckymays.com/event/lucky-mays-band-sandia-music-sound/
END:VEVENT
BEGIN:VEVENT
DTSTART;TZID=America/Denver:20250829T080000
DTEND;TZID=America/Denver:20250829T170000
DTSTAMP:20260421T012302
CREATED:20250829T170020Z
LAST-MODIFIED:20250829T170040Z
UID:15216-1756454400-1756486800@luckymays.com
SUMMARY:LUCKY MAYS & BRYAN DAVIS
DESCRIPTION:Spend your Friday evening with the Lucky Mays Duo\, blending heartfelt storytelling and melodic vibes that move from Americana to modern alternative. Featuring Bryan Davis on guitar\, this duo brings rich\, timeless energy that pairs perfectly with a drink from the Taproom and bites from El Vado’s food pods. \n\n\n\n— at El Vado ABQ.
URL:https://luckymays.com/event/lucky-mays-bryan-davis/
END:VEVENT
END:VCALENDAR