BEGIN:VCALENDAR
VERSION:2.0
PRODID:-//LUCKY MAYS - ECPv6.15.20//NONSGML v1.0//EN
CALSCALE:GREGORIAN
METHOD:PUBLISH
X-ORIGINAL-URL:https://luckymays.com
X-WR-CALDESC:Events for LUCKY MAYS
REFRESH-INTERVAL;VALUE=DURATION:PT1H
X-Robots-Tag:noindex
X-PUBLISHED-TTL:PT1H
BEGIN:VTIMEZONE
TZID:America/Denver
BEGIN:DAYLIGHT
TZOFFSETFROM:-0700
TZOFFSETTO:-0600
TZNAME:MDT
DTSTART:20230312T090000
END:DAYLIGHT
BEGIN:STANDARD
TZOFFSETFROM:-0600
TZOFFSETTO:-0700
TZNAME:MST
DTSTART:20231105T080000
END:STANDARD
BEGIN:DAYLIGHT
TZOFFSETFROM:-0700
TZOFFSETTO:-0600
TZNAME:MDT
DTSTART:20240310T090000
END:DAYLIGHT
BEGIN:STANDARD
TZOFFSETFROM:-0600
TZOFFSETTO:-0700
TZNAME:MST
DTSTART:20241103T080000
END:STANDARD
BEGIN:DAYLIGHT
TZOFFSETFROM:-0700
TZOFFSETTO:-0600
TZNAME:MDT
DTSTART:20250309T090000
END:DAYLIGHT
BEGIN:STANDARD
TZOFFSETFROM:-0600
TZOFFSETTO:-0700
TZNAME:MST
DTSTART:20251102T080000
END:STANDARD
END:VTIMEZONE
BEGIN:VEVENT
DTSTART;TZID=America/Denver:20241004T180000
DTEND;TZID=America/Denver:20241004T210000
DTSTAMP:20260423T030259
CREATED:20240926T180245Z
LAST-MODIFIED:20241001T144031Z
UID:15144-1728064800-1728075600@luckymays.com
SUMMARY:LUCKY MAYS BAND! | WINROCK PARK
DESCRIPTION:Friday\, October 4th\, 2024. 6:00 pm – 9:00 pm \n\n\n\n\n\n\n\nRock The Center at the stage in Winrock Park with Sugar Show and special guest the Lucky Mays Band\, starting at 6pm
URL:https://luckymays.com/event/lucky-mays-band-winrock-park/
END:VEVENT
END:VCALENDAR