BEGIN:VCALENDAR
VERSION:2.0
PRODID:-//LUCKY MAYS - ECPv6.15.20//NONSGML v1.0//EN
CALSCALE:GREGORIAN
METHOD:PUBLISH
X-ORIGINAL-URL:https://luckymays.com
X-WR-CALDESC:Events for LUCKY MAYS
REFRESH-INTERVAL;VALUE=DURATION:PT1H
X-Robots-Tag:noindex
X-PUBLISHED-TTL:PT1H
BEGIN:VTIMEZONE
TZID:America/Denver
BEGIN:DAYLIGHT
TZOFFSETFROM:-0700
TZOFFSETTO:-0600
TZNAME:MDT
DTSTART:20230312T090000
END:DAYLIGHT
BEGIN:STANDARD
TZOFFSETFROM:-0600
TZOFFSETTO:-0700
TZNAME:MST
DTSTART:20231105T080000
END:STANDARD
BEGIN:DAYLIGHT
TZOFFSETFROM:-0700
TZOFFSETTO:-0600
TZNAME:MDT
DTSTART:20240310T090000
END:DAYLIGHT
BEGIN:STANDARD
TZOFFSETFROM:-0600
TZOFFSETTO:-0700
TZNAME:MST
DTSTART:20241103T080000
END:STANDARD
BEGIN:DAYLIGHT
TZOFFSETFROM:-0700
TZOFFSETTO:-0600
TZNAME:MDT
DTSTART:20250309T090000
END:DAYLIGHT
BEGIN:STANDARD
TZOFFSETFROM:-0600
TZOFFSETTO:-0700
TZNAME:MST
DTSTART:20251102T080000
END:STANDARD
END:VTIMEZONE
BEGIN:VEVENT
DTSTART;TZID=America/Denver:20240621T180000
DTEND;TZID=America/Denver:20240621T210000
DTSTAMP:20260423T042342
CREATED:20240602T153931Z
LAST-MODIFIED:20240615T164730Z
UID:15047-1718992800-1719003600@luckymays.com
SUMMARY:LUCKY MAYS BAND! | Rock Canyon Cider
DESCRIPTION:
URL:https://luckymays.com/event/lucky-mays-live-rock-canyon-cider/
LOCATION:Rock Canyon Taproom\, 340-364 NM-333\, Albuquerque\, 87123\, United States
CATEGORIES:LIVE MUSIC
END:VEVENT
END:VCALENDAR