BEGIN:VCALENDAR
VERSION:2.0
PRODID:-//LUCKY MAYS - ECPv6.15.20//NONSGML v1.0//EN
CALSCALE:GREGORIAN
METHOD:PUBLISH
X-WR-CALNAME:LUCKY MAYS
X-ORIGINAL-URL:https://luckymays.com
X-WR-CALDESC:Events for LUCKY MAYS
REFRESH-INTERVAL;VALUE=DURATION:PT1H
X-Robots-Tag:noindex
X-PUBLISHED-TTL:PT1H
BEGIN:VTIMEZONE
TZID:America/Denver
BEGIN:DAYLIGHT
TZOFFSETFROM:-0700
TZOFFSETTO:-0600
TZNAME:MDT
DTSTART:20240310T090000
END:DAYLIGHT
BEGIN:STANDARD
TZOFFSETFROM:-0600
TZOFFSETTO:-0700
TZNAME:MST
DTSTART:20241103T080000
END:STANDARD
BEGIN:DAYLIGHT
TZOFFSETFROM:-0700
TZOFFSETTO:-0600
TZNAME:MDT
DTSTART:20250309T090000
END:DAYLIGHT
BEGIN:STANDARD
TZOFFSETFROM:-0600
TZOFFSETTO:-0700
TZNAME:MST
DTSTART:20251102T080000
END:STANDARD
BEGIN:DAYLIGHT
TZOFFSETFROM:-0700
TZOFFSETTO:-0600
TZNAME:MDT
DTSTART:20260308T090000
END:DAYLIGHT
BEGIN:STANDARD
TZOFFSETFROM:-0600
TZOFFSETTO:-0700
TZNAME:MST
DTSTART:20261101T080000
END:STANDARD
END:VTIMEZONE
BEGIN:VEVENT
DTSTART;TZID=America/Denver:20250829T080000
DTEND;TZID=America/Denver:20250829T170000
DTSTAMP:20260423T025819
CREATED:20250829T170020Z
LAST-MODIFIED:20250829T170040Z
UID:15216-1756454400-1756486800@luckymays.com
SUMMARY:LUCKY MAYS & BRYAN DAVIS
DESCRIPTION:Spend your Friday evening with the Lucky Mays Duo\, blending heartfelt storytelling and melodic vibes that move from Americana to modern alternative. Featuring Bryan Davis on guitar\, this duo brings rich\, timeless energy that pairs perfectly with a drink from the Taproom and bites from El Vado’s food pods. \n\n\n\n— at El Vado ABQ.
URL:https://luckymays.com/event/lucky-mays-bryan-davis/
END:VEVENT
END:VCALENDAR