BEGIN:VCALENDAR
VERSION:2.0
PRODID:-//LUCKY MAYS - ECPv6.15.20//NONSGML v1.0//EN
CALSCALE:GREGORIAN
METHOD:PUBLISH
X-ORIGINAL-URL:https://luckymays.com
X-WR-CALDESC:Events for LUCKY MAYS
REFRESH-INTERVAL;VALUE=DURATION:PT1H
X-Robots-Tag:noindex
X-PUBLISHED-TTL:PT1H
BEGIN:VTIMEZONE
TZID:America/Denver
BEGIN:DAYLIGHT
TZOFFSETFROM:-0700
TZOFFSETTO:-0600
TZNAME:MDT
DTSTART:20230312T090000
END:DAYLIGHT
BEGIN:STANDARD
TZOFFSETFROM:-0600
TZOFFSETTO:-0700
TZNAME:MST
DTSTART:20231105T080000
END:STANDARD
BEGIN:DAYLIGHT
TZOFFSETFROM:-0700
TZOFFSETTO:-0600
TZNAME:MDT
DTSTART:20240310T090000
END:DAYLIGHT
BEGIN:STANDARD
TZOFFSETFROM:-0600
TZOFFSETTO:-0700
TZNAME:MST
DTSTART:20241103T080000
END:STANDARD
BEGIN:DAYLIGHT
TZOFFSETFROM:-0700
TZOFFSETTO:-0600
TZNAME:MDT
DTSTART:20250309T090000
END:DAYLIGHT
BEGIN:STANDARD
TZOFFSETFROM:-0600
TZOFFSETTO:-0700
TZNAME:MST
DTSTART:20251102T080000
END:STANDARD
END:VTIMEZONE
BEGIN:VEVENT
DTSTART;TZID=America/Denver:20240706T190000
DTEND;TZID=America/Denver:20240706T210000
DTSTAMP:20260423T042239
CREATED:20240528T185354Z
LAST-MODIFIED:20240615T164730Z
UID:14986-1720292400-1720299600@luckymays.com
SUMMARY:LUCKY MAYS BAND! | Billy's Back Deck
DESCRIPTION:House Concert in Moriarty\, NM  \n\n\n\nThis is a limited seating event. Please message Lucky for an invitation via Instagram Messages or Facebook Messenger: \n\n\n\nhttps://www.instagram.com/luckymaysmusic \n\n\n\nhttps://www.facebook.com/luckymaysmusic
URL:https://luckymays.com/event/lucky-mays-house-concert/
CATEGORIES:LIVE MUSIC
END:VEVENT
END:VCALENDAR